BEGIN:VCALENDAR
VERSION:2.0
PRODID:-//VxP Biologics - ECPv6.3.3.1//NONSGML v1.0//EN
CALSCALE:GREGORIAN
METHOD:PUBLISH
X-WR-CALNAME:VxP Biologics
X-ORIGINAL-URL:https://vxpbiologics.com
X-WR-CALDESC:Events for VxP Biologics
REFRESH-INTERVAL;VALUE=DURATION:PT1H
X-Robots-Tag:noindex
X-PUBLISHED-TTL:PT1H
BEGIN:VTIMEZONE
TZID:America/New_York
BEGIN:DAYLIGHT
TZOFFSETFROM:-0500
TZOFFSETTO:-0400
TZNAME:EDT
DTSTART:20240310T070000
END:DAYLIGHT
BEGIN:STANDARD
TZOFFSETFROM:-0400
TZOFFSETTO:-0500
TZNAME:EST
DTSTART:20241103T060000
END:STANDARD
END:VTIMEZONE
BEGIN:VEVENT
DTSTART;TZID=America/New_York:20240318T000000
DTEND;TZID=America/New_York:20240321T000000
DTSTAMP:20260420T234744
CREATED:20240312T204743Z
LAST-MODIFIED:20240312T204743Z
UID:3144-1710720000-1710979200@vxpbiologics.com
SUMMARY:DCAT Week
DESCRIPTION:New York\, New York\nMarch 18-21\, 2024\nWebsite →
URL:https://vxpbiologics.com/event/dcat-week/
END:VEVENT
BEGIN:VEVENT
DTSTART;TZID=America/New_York:20240317T000000
DTEND;TZID=America/New_York:20240318T000000
DTSTAMP:20260420T234744
CREATED:20240312T210727Z
LAST-MODIFIED:20240312T210727Z
UID:3150-1710633600-1710720000@vxpbiologics.com
SUMMARY:PDA Universe of Pre-Filled Syringes and Injection Devices Conference
DESCRIPTION:Phoenix\, Arizona\nOctober 17-18\, 2024\nWebsite →
URL:https://vxpbiologics.com/event/pda-universe-of-pre-filled-syringes-and-injection-devices-conference/
END:VEVENT
BEGIN:VEVENT
DTSTART;TZID=America/New_York:20240316T000000
DTEND;TZID=America/New_York:20240318T000000
DTSTAMP:20260420T234744
CREATED:20240312T205032Z
LAST-MODIFIED:20240312T205032Z
UID:3146-1710547200-1710720000@vxpbiologics.com
SUMMARY:INTERPHEX
DESCRIPTION:New York\, New York\nApril 16-18\, 2024\nWebsite →
URL:https://vxpbiologics.com/event/interphex/
END:VEVENT
END:VCALENDAR