BEGIN:VCALENDAR
VERSION:2.0
PRODID:-//VxP Biologics - ECPv6.3.3.1//NONSGML v1.0//EN
CALSCALE:GREGORIAN
METHOD:PUBLISH
X-WR-CALNAME:VxP Biologics
X-ORIGINAL-URL:https://vxpbiologics.com
X-WR-CALDESC:Events for VxP Biologics
REFRESH-INTERVAL;VALUE=DURATION:PT1H
X-Robots-Tag:noindex
X-PUBLISHED-TTL:PT1H
BEGIN:VTIMEZONE
TZID:America/New_York
BEGIN:DAYLIGHT
TZOFFSETFROM:-0500
TZOFFSETTO:-0400
TZNAME:EDT
DTSTART:20240310T070000
END:DAYLIGHT
BEGIN:STANDARD
TZOFFSETFROM:-0400
TZOFFSETTO:-0500
TZNAME:EST
DTSTART:20241103T060000
END:STANDARD
END:VTIMEZONE
BEGIN:VEVENT
DTSTART;TZID=America/New_York:20240507T000000
DTEND;TZID=America/New_York:20240509T000000
DTSTAMP:20260420T195943
CREATED:20240312T211240Z
LAST-MODIFIED:20240312T211240Z
UID:3154-1715040000-1715212800@vxpbiologics.com
SUMMARY:CPHI North America
DESCRIPTION:Philadelphia\, Pennsylvania\nMay 7-9\, 2024\nWebsite →
URL:https://vxpbiologics.com/event/cphi-north-america/
END:VEVENT
BEGIN:VEVENT
DTSTART;TZID=America/New_York:20240514T000000
DTEND;TZID=America/New_York:20240515T000000
DTSTAMP:20260420T195943
CREATED:20240312T205156Z
LAST-MODIFIED:20240312T211916Z
UID:3148-1715644800-1715731200@vxpbiologics.com
SUMMARY:Pharma Manufacturing World Summit
DESCRIPTION:Boston\, Massachusetts\nMay 14-15\, 2024\nWebsite –
URL:https://vxpbiologics.com/event/pharma-manufacturing-world-summit/
END:VEVENT
END:VCALENDAR